BEGIN:VCALENDAR
VERSION:2.0
PRODID:-//eventon.com NONSGML v1.0//EN
CALSCALE:GREGORIAN
METHOD:PUBLISH
BEGIN:VEVENT
UID:69ea0afc3f80f
DTSTAMP:20260423T120516Z
DTSTART:20260423T100000Z
DTEND:20260423T160000Z
LOCATION:Bibliotheek
SUMMARY:Laat je hart checken!
DESCRIPTION:​​Op donderdag 23 april 2026 kun je gratis je hart laten ch
 ecken in Bibliotheek Zevenaar. Samen met de Hartstichting organiseren we tu
 ssen 10:00 en 16:00 uur een Hartcheckpunt met vier meetpunten.&nbsp; ​Wis
 t je dat 55% van hart- en vaatziekten te voorkomen is met een gezondere lee
 fstijl? Vroeg signaleren helpt om[..]\nhttps://www.turmaccultuurfabriek.nl/
 evenementen/laat-je-hart-checken/
URL:https://www.turmaccultuurfabriek.nl/evenementen/laat-je-hart-checken/
END:VEVENT
END:VCALENDAR